BEGIN:VCALENDAR
VERSION:2.0
PRODID:-//K9 Hero Guardians - ECPv6.15.20//NONSGML v1.0//EN
CALSCALE:GREGORIAN
METHOD:PUBLISH
X-WR-CALNAME:K9 Hero Guardians
X-ORIGINAL-URL:https://mik9cop.com
X-WR-CALDESC:Events for K9 Hero Guardians
REFRESH-INTERVAL;VALUE=DURATION:PT1H
X-Robots-Tag:noindex
X-PUBLISHED-TTL:PT1H
BEGIN:VTIMEZONE
TZID:UTC
BEGIN:STANDARD
TZOFFSETFROM:+0000
TZOFFSETTO:+0000
TZNAME:UTC
DTSTART:20250101T000000
END:STANDARD
END:VTIMEZONE
BEGIN:VEVENT
DTSTART;TZID=UTC:20260516T120000
DTEND;TZID=UTC:20260516T210000
DTSTAMP:20260423T123048
CREATED:20260304T001229Z
LAST-MODIFIED:20260304T001637Z
UID:250-1778932800-1778965200@mik9cop.com
SUMMARY:5th Annual K9 Canjo Memorial Bowling 4 Paws
DESCRIPTION:Family Bowl at Noon – $40Adult Bowl at 6:00 PM – $100 for a team of 4 or $25 for a single player\n\nRaffles\, 50/50\, bake sale\, and swag table!\n\n\nThe K9 Canjo Memorial Fund was set up after learning of the back issues that many working K9’s deal with. This fund has already paid for several back x-rays for current working K9’s to determine if they may be hiding issues. This fund will also provide equipment\, such as ramps\, assistive harnesses (such as Help-Me-up harnesses)\, wheels\, vehicle modifications (steps)\, and more.\n\n\nProceeds raised at the 5th Annual K9 Canjo Memorial Bowling 4 Paws will be used to help reach more police K9 teams and hopefully reduce future back injuries. We would love to have you join us for a day of fun\, bowling\, and support in memory of K9 Canjo.\n\nRegistration form if you prefer to sign up paying by check.
URL:https://mik9cop.com/event/5th-annual-k9-canjo-memorial-bowling-4-paws/
LOCATION:Crooked Creek\, 9387 Gratiot\, Saginaw\, MI\, 48609\, United States
END:VEVENT
BEGIN:VEVENT
DTSTART;TZID=UTC:20260523T090000
DTEND;TZID=UTC:20260523T210000
DTSTAMP:20260423T123048
CREATED:20251017T012137Z
LAST-MODIFIED:20251017T012206Z
UID:180-1779526800-1779570000@mik9cop.com
SUMMARY:Frankenmuth Dog Bowl 2026
DESCRIPTION:The World’s LARGEST Olympic Style Event for dogs! Free family fun! Visit the website to learn more about all the activities and events available! \nK9 Hero Guardians is excited to return to Frankenmuth Dog Bowl to present the police K9 demos!\n\n\nBe sure to visit the K9 Hero Guardians booth to pick up your K9 swag and help support active and retired police K9’s! The booth will be open 9:00 am – 9:00 pm (if weather is poor\, we may close the booth early).
URL:https://mik9cop.com/event/frankenmuth-dog-bowl-2026-2/
LOCATION:Frankenmuth River Place Shops\, 925 S. Main St\, Frankenmuth\, MI\, 48734\, United States
END:VEVENT
BEGIN:VEVENT
DTSTART;TZID=UTC:20260524T090000
DTEND;TZID=UTC:20260524T210000
DTSTAMP:20260423T123048
CREATED:20251017T011819Z
LAST-MODIFIED:20251017T012009Z
UID:173-1779613200-1779656400@mik9cop.com
SUMMARY:Frankenmuth Dog Bowl 2026
DESCRIPTION:The World’s LARGEST Olympic Style Event for dogs! Free family fun! Visit the website to learn more about all the activities and events available! \nK9 Hero Guardians is excited to return to Frankenmuth Dog Bowl to present the police K9 demos!\n\n\nBe sure to visit the K9 Hero Guardians booth to pick up your K9 swag and help support active and retired police K9’s! The booth will be open 9:00 am – 9:00 pm (if weather is poor\, we may close the booth early).
URL:https://mik9cop.com/event/frankenmuth-dog-bowl-2026/
LOCATION:Frankenmuth River Place Shops\, 925 S. Main St\, Frankenmuth\, MI\, 48734\, United States
END:VEVENT
END:VCALENDAR